BEGIN:VCALENDAR
VERSION:2.0
PRODID:-//Tukios.com/
BEGIN:VEVENT
UID:666aa861-b9a7-43a4-83c8-7d579d44e9e3@www.minnehahafuneralhome.com
DTSTAMP:20260426T000220Z
DTSTART:20260430T220000Z
DTEND:20260501T000000Z
SUMMARY:Visitation
DESCRIPTION:
URL:https://www.minnehahafuneralhome.com/obituaries/devona-engebretson
LOCATION: 101 Leslie Drive  Garretson SD 57030
GEO:43.7095875;-96.501198
END:VEVENT
END:VCALENDAR