BEGIN:VCALENDAR
VERSION:2.0
PRODID:-//Tukios.com/
BEGIN:VEVENT
UID:e85777a1-4fb9-425c-abcd-58903d8cde12@www.minnehahafuneralhome.com
DTSTAMP:20260425T235649Z
DTSTART:20260501T153000Z
DTEND:20260501T163000Z
SUMMARY:Funeral Service
DESCRIPTION:
URL:https://www.minnehahafuneralhome.com/obituaries/devona-engebretson
LOCATION:Zion Lutheran Church 212 North Center Avenue  Garretson SD 57030
GEO:43.7116406;-96.5007447
END:VEVENT
END:VCALENDAR